BEGIN:VCALENDAR
VERSION:2.0
PRODID:-//wp-events-plugin.com//7.2.3.1//EN
TZID:Europe/Berlin
X-WR-TIMEZONE:Europe/Berlin
BEGIN:VEVENT
UID:62@business4school.de
DTSTART:20231009T180000Z
DTEND:20240115T200000Z
DTSTAMP:20231108T122323Z
URL:https://www.business4school.de/veranstaltungen/ws2023-weserbergland/
SUMMARY:Wirtschaft in Staat & Gesellschaft | Wintersemester 2023/2024 | Wes
 erbergland
DESCRIPTION:Termine 2023/2024\n09. Okt | 30. Okt | 20. Nov | 11. Dez | 15. 
 Jan\nca. 1 x monatlich\, montags\, 18.00 bis 20.00 h\n\n&gt\;&gt\; Program
 m zum Download \n\nVeranstalter\nbusiness4school UG | mit Weserbergland A
 G\n\nOrt\nOnline – den jeweiligen Zugangslink bekommst Du von uns vorab 
 per Mail zugeschickt.\n\nKontakt\nMariia Fitkulova\nm.fitkulova@weserbergl
 andag.de\n+49 163 5183511\nWeb www.business4school.de/weserbergland\n\nTei
 lnehmer + Gebühren\nEmpfohlen für JG 10 bis 12\,\ndie Teilnahme ist ko
 stenfrei\n\nBei regelmäßiger Teilnahme erhalten die Teilnehmer ein Zert
 ifikat.\n\nAnmeldefrist\nSie können sich jederzeit anmelden
END:VEVENT
END:VCALENDAR