BEGIN:VCALENDAR
VERSION:2.0
PRODID:-//wp-events-plugin.com//7.2.3.1//EN
TZID:Europe/Berlin
X-WR-TIMEZONE:Europe/Berlin
BEGIN:VEVENT
UID:61@business4school.de
DTSTART:20230918T174500Z
DTEND:20240111T200000Z
DTSTAMP:20240118T132219Z
URL:https://www.business4school.de/veranstaltungen/ws2023-hildesheim/
SUMMARY:Wirtschaft in Staat & Gesellschaft | Wintersemester 2023/2024 | Hil
 desheim
DESCRIPTION:Termine 2023\n1 x monatlich montags\, 18.00 bis 20.00 h\n\nbusi
 ness4school UG  | mit Co-Veranstalter Förderverein Lions Club Hildesheim
 -Marienburg und Universität Hildesheim\n\n&gt\;&gt\; Programm zum Downloa
 d\n\nPartner + Ort\nUniversität Hildesheim\, Universitätsplatz 1\, Hörs
 aal 4\nund online. Einwahlcode wird allen angemeldeten Teilnehmern rechtze
 itig vor Termin per eMail mitgeteilt.\n\nKontakt\ncollege@business4school.
 de\n\nZertifikat\nBei regelmäßiger Teilnahme erhalten die Teilnehmer ein
  Zertifikat.\n\nTeilnehmer + Gebühren\nEmpfohlen für JG 10 bis 12\,\nd
 ie Teilnahme ist kostenfrei\n\nAnmeldefrist\nBitte melden Sie sich möglic
 hst bis zum 17. September 2023 an.
LOCATION:Universität Hildesheim\, Universitätsplatz 1\, Hildesheim\, Deut
 schland
GEO:52.133425;9.975513
X-APPLE-STRUCTURED-LOCATION;VALUE=URI;X-ADDRESS=Universitätsplatz 1\, Hild
 esheim\, Deutschland;X-APPLE-RADIUS=100;X-TITLE=Universität Hildesheim:ge
 o:52.133425,9.975513
END:VEVENT
END:VCALENDAR