BEGIN:VCALENDAR
VERSION:2.0
PRODID:-//wp-events-plugin.com//7.2.3.1//EN
TZID:Europe/Berlin
X-WR-TIMEZONE:Europe/Berlin
BEGIN:VEVENT
UID:58@business4school.de
DTSTART:20230918T174500Z
DTEND:20240117T200000Z
DTSTAMP:20240118T132246Z
URL:https://www.business4school.de/veranstaltungen/ws2023-hannover/
SUMMARY:Wirtschaft in Staat & Gesellschaft | Wintersemester 2023/2024 | Han
 nover
DESCRIPTION:Termine 2023\n1 x monatlich montags\, 18.00 bis 20.00 h\n18. Se
 p | 04. Okt | 20. Nov | 27. Nov | 11. Dez |\n\nVeranstalter\nbusiness4scho
 ol  UG  | in Kooperation mit DIE FAMILIENUNTERNEHMER\,\nder IHK Hannover
 \, der Leibniz Universität\, der Hochschule Hannover und mit den Hochschu
 len FHM und FHDW\n\n&gt\;&gt\; Programm zum Download\n\nPartner + Ort\nLei
 bniz Universität Hannover\nKönigsworther Platz 1\, 30167 Hannover (Conti
  Campus)\n\nKontakt\ncollege@business4school.de\n\nAnmeldefrist\nBitte mel
 den Sie sich möglichst bis zum 17. September 2023 an.
LOCATION:Leibniz Universität Hannover\, Königsworther Platz 1\, 30167 Han
 nover (Conti Campus)\, Deutschland
GEO:52.3791768;9.723882099999969
X-APPLE-STRUCTURED-LOCATION;VALUE=URI;X-ADDRESS=Königsworther Platz 1\, 30
 167 Hannover (Conti Campus)\, Deutschland;X-APPLE-RADIUS=100;X-TITLE=Leibn
 iz Universität Hannover:geo:52.3791768,9.723882099999969
END:VEVENT
END:VCALENDAR