BEGIN:VCALENDAR
VERSION:2.0
PRODID:-//wp-events-plugin.com//7.2.3.1//EN
TZID:Europe/Berlin
X-WR-TIMEZONE:Europe/Berlin
BEGIN:VEVENT
UID:59@business4school.de
DTSTART:20230911T174500Z
DTEND:20231219T200000Z
DTSTAMP:20240118T131808Z
URL:https://www.business4school.de/veranstaltungen/ws2023-goettingen/
SUMMARY:Wirtschaft in Staat & Gesellschaft | Wintersemester 2023/2024 | Gö
 ttingen
DESCRIPTION:Termine 2023\n1 x monatlich montags\, 18.00 bis 20.00 h\n11. Se
 p | 04. Okt | 06. Nov | 27. Nov | 11. Dez |\n\nVeranstalter\nbusiness4scho
 ol UG  | in Kooperation mit DIE FAMILIENUNTERNEHMER\, Lions Clubs Göttin
 gen\, IHK Hannover und  SüdniedersachsenStiftung\n\n&gt\;&gt\; Programm 
 zum Download\n\nPartner + Ort\nPFH Private Hochschule Göttingen\nWeender 
 Landstraße 3-7\, 37073 Göttingen\n\nKontakt\ncollege@business4school.de\
 n\nTeilnehmer + Gebühren\nEmpfohlen für JG 10 bis 12\,\ndie Teilnahme
  ist kostenfrei\n\nAnmeldefrist\nAnmeldungen sind weiterhin möglich.
LOCATION:PFH Private Hochschule Göttingen\, Weender Landstraße 3-7\, Göt
 tingen\, 37073\, Deutschland
GEO:51.53919519999999;9.932713499999977
X-APPLE-STRUCTURED-LOCATION;VALUE=URI;X-ADDRESS=Weender Landstraße 3-7\, G
 öttingen\, 37073\, Deutschland;X-APPLE-RADIUS=100;X-TITLE=PFH Private Hoc
 hschule Göttingen:geo:51.53919519999999,9.932713499999977
END:VEVENT
END:VCALENDAR