BEGIN:VCALENDAR
VERSION:2.0
PRODID:-//wp-events-plugin.com//7.2.3.1//EN
TZID:Europe/Berlin
X-WR-TIMEZONE:Europe/Berlin
BEGIN:VEVENT
UID:60@business4school.de
DTSTART:20230925T174500Z
DTEND:20240115T200000Z
DTSTAMP:20240118T133613Z
URL:https://www.business4school.de/veranstaltungen/ws2023-braunschweig/
SUMMARY:Wirtschaft in Staat & Gesellschaft | Wintersemester 2023/2024 | Bra
 unschweig
DESCRIPTION:Termine 2023\n1 x monatlich montags\, 18.00 bis 20.00 h\n25. Se
 p | 04. Okt | 13. Nov | 27. Nov | 11. Dez |\n\nVeranstalter\nbusiness4scho
 ol  UG  |  in Kooperation mit DIE FAMILIENUNTERNEHMER\,\nIHK Braunschwe
 ig und Allianz für die Region\n\n&gt\;&gt\; Programm zum Download\n\nPart
 ner + Ort\nWelfenAkademie e.V.\, Berufsakademie\nSalzdahlumer Str. 160\, 3
 8126 Braunschweig\n\nKontakt\ncollege@business4school.de\n\nTeilnehmer + 
 Gebühren\nEmpfohlen für JG 10 bis 12\,\ndie Teilnahme ist kostenfrei\n
 \nAnmeldefrist\nBitte melden Sie sich möglichst bis zum 22. September 202
 3 an.
LOCATION:WelfenAkademie Braunschweig\, Salzdahlumer Str. 160\, Braunschweig
 \, 38126\, Deutschland
GEO:52.23675;10.542990000000032
X-APPLE-STRUCTURED-LOCATION;VALUE=URI;X-ADDRESS=Salzdahlumer Str. 160\, Bra
 unschweig\, 38126\, Deutschland;X-APPLE-RADIUS=100;X-TITLE=WelfenAkademie 
 Braunschweig:geo:52.23675,10.542990000000032
END:VEVENT
END:VCALENDAR