BEGIN:VCALENDAR
VERSION:2.0
PRODID:-//wp-events-plugin.com//7.2.3.1//EN
TZID:Europe/Berlin
X-WR-TIMEZONE:Europe/Berlin
BEGIN:VEVENT
UID:71@business4school.de
DTSTART:20240205T174500Z
DTEND:20240610T200000Z
DTSTAMP:20240312T123018Z
URL:https://www.business4school.de/veranstaltungen/wirtschaft-global-somme
 rsemster-2024-goettingen/
SUMMARY:Wirtschaft Global | Sommersemster 2024 | Göttingen
DESCRIPTION:Termine 2023\n1 x monatlich montags\, 18.00 bis 20.00 h\n26. Fe
 b | 11. Mrz | 08. Apr | 29. Apr | 13. Mai | 10. Jun\n\nVeranstalter\nbusin
 ess4school UG | in Kooperation mit DIE FAMILIENUNTERNEHMER\, Lions Clubs G
 öttingen\, IHK Hannover und  SüdniedersachsenStiftung\n\nPartner + Ort\
 nPFH Private Hochschule Göttingen\nWeender Landstraße 3-7\, 37073 Götti
 ngen\n\nKontakt\ncollege@business4school.de\n\nTeilnehmer + Gebühren\nEm
 pfohlen für JG 10 bis 12\,\ndie Teilnahme ist kostenfrei\n\nAnmeldefris
 t\nAnmeldungen sind weiterhin möglich.
LOCATION:PFH Private Hochschule Göttingen\, Weender Landstraße 3-7\, Göt
 tingen\, 37073\, Deutschland
GEO:51.53919519999999;9.932713499999977
X-APPLE-STRUCTURED-LOCATION;VALUE=URI;X-ADDRESS=Weender Landstraße 3-7\, G
 öttingen\, 37073\, Deutschland;X-APPLE-RADIUS=100;X-TITLE=PFH Private Hoc
 hschule Göttingen:geo:51.53919519999999,9.932713499999977
END:VEVENT
END:VCALENDAR