BEGIN:VCALENDAR
VERSION:2.0
PRODID:-//wp-events-plugin.com//7.2.3.1//EN
TZID:Europe/Berlin
X-WR-TIMEZONE:Europe/Berlin
BEGIN:VEVENT
UID:72@business4school.de
DTSTART:20240219T174500Z
DTEND:20240610T200000Z
DTSTAMP:20240312T123436Z
URL:https://www.business4school.de/veranstaltungen/wirtschaft-global-somme
 rsemester-2024-hildesheim/
SUMMARY:Wirtschaft Global | Sommersemester 2024 | Hildesheim
DESCRIPTION:Termine 2024\n1 x monatlich montags\, 18.00 bis 20.00 h\n\nbusi
 ness4school UG  | mit Co-Veranstalter Förderverein Lions Club Hildesheim
 -Marienburg und Universität Hildesheim\n\nPartner + Ort\nUniversität Hil
 desheim\, Universitätsplatz 1\, Hörsaal 4\nund online. Einwahlcode wird 
 allen angemeldeten Teilnehmern rechtzeitig vor Termin per eMail mitgeteilt
 .\n\nKontakt\ncollege@business4school.de\n\nZertifikat\nBei regelmäßiger
  Teilnahme erhalten die Teilnehmer ein Zertifikat.\n\nTeilnehmer + Gebühr
 en\nEmpfohlen für JG 10 bis 12\,\ndie Teilnahme ist kostenfrei\n\nAnmel
 defrist\nBitte melden Sie sich möglichst bis zum 16.02.2024 an.
LOCATION:Universität Hildesheim\, Universitätsplatz 1\, Hildesheim\, Deut
 schland
GEO:52.133425;9.975513
X-APPLE-STRUCTURED-LOCATION;VALUE=URI;X-ADDRESS=Universitätsplatz 1\, Hild
 esheim\, Deutschland;X-APPLE-RADIUS=100;X-TITLE=Universität Hildesheim:ge
 o:52.133425,9.975513
END:VEVENT
END:VCALENDAR