BEGIN:VCALENDAR
VERSION:2.0
PRODID:-//wp-events-plugin.com//7.2.3.1//EN
TZID:Europe/Berlin
X-WR-TIMEZONE:Europe/Berlin
BEGIN:VEVENT
UID:73@business4school.de
DTSTART:20240212T174500Z
DTEND:20240610T200000Z
DTSTAMP:20240606T104312Z
URL:https://www.business4school.de/veranstaltungen/wirtschaft-global-somme
 rsemester-2024-braunschweig/
SUMMARY:Wirtschaft Global | Sommersemester 2024 | Braunschweig
DESCRIPTION:Termine 2024\n1 x monatlich montags\, 18.00 bis 20.00 h\n04. Mr
 z | 11. Mrz | 08. Apr | 29. Apr | 13. Mai\n\nVeranstalter\nbusiness4school
   UG  |  in Kooperation mit DIE FAMILIENUNTERNEHMER\,\nIHK Braunschweig
  und Allianz für die Region\n\nPartner + Ort\nWelfenAkademie e.V.\, Beruf
 sakademie\nSalzdahlumer Str. 160\, 38126 Braunschweig\n\nKontakt\ncollege@
 business4school.de\n\nTeilnehmer + Gebühren\nEmpfohlen für JG 10 bis 
 12\,\ndie Teilnahme ist kostenfrei\n\nAnmeldefrist\nBitte melden Sie sich 
 möglichst bis zum 22. September 2023 an.
LOCATION:WelfenAkademie Braunschweig\, Salzdahlumer Str. 160\, Braunschweig
 \, 38126\, Deutschland
GEO:52.23675;10.542990000000032
X-APPLE-STRUCTURED-LOCATION;VALUE=URI;X-ADDRESS=Salzdahlumer Str. 160\, Bra
 unschweig\, 38126\, Deutschland;X-APPLE-RADIUS=100;X-TITLE=WelfenAkademie 
 Braunschweig:geo:52.23675,10.542990000000032
END:VEVENT
END:VCALENDAR