BEGIN:VCALENDAR
VERSION:2.0
PRODID:-//wp-events-plugin.com//7.2.3.1//EN
TZID:Europe/Berlin
X-WR-TIMEZONE:Europe/Berlin
BEGIN:VEVENT
UID:65@business4school.de
DTSTART:20240212T180000Z
DTEND:20240610T200000Z
DTSTAMP:20240213T110113Z
URL:https://www.business4school.de/veranstaltungen/wirtschaft-global-2024-
 weserbergland/
SUMMARY:Wirtschaft Global | Sommersemester 2024 | Weserbergland
DESCRIPTION:\nWirtschaft Global\nBusiness4school veranstaltet im Sommerhalb
 jahr 2024 den Wirtschaftskursus Wirtschaft Global. Er zeigt die wirtschaft
 lichen und aktuellen Entwicklungen im weltweiten Zusammenhang auf. Zum Onl
 ine-Kursus gehören Vorlesungen\, Praxisvorträge und interaktive Elemente
 \, die die Schülerinnen und Schüler in die Entwicklung der Inhalte einbi
 nden.\n\nTermine 2024\n12. Feb | 11. Mar | 15. Apr | 13. Mai | 10. Jun\nca
 . 1 x monatlich\, montags\, 18.00 bis 20.00 h\n\nVeranstalter\nbusiness4sc
 hool UG | mit Weserbergland AG\n\nOrt\nOnline – den jeweiligen Zugangsli
 nk bekommst Du von uns vorab per Mail zugeschickt.\n\nKontakt\nMariia Fitk
 ulova\nm.fitkulova@weserberglandag.de\n+49 163 5183511\nWeb www.business4s
 chool.de/weserbergland\n\nTeilnehmer + Gebühren\nEmpfohlen für JG 10 bi
 s 12\,\ndie Teilnahme ist kostenfrei\n\nBei regelmäßiger Teilnahme erha
 lten die Teilnehmer ein Zertifikat.\n\nAnmeldefrist\nSie können sich jed
 erzeit anmelden
END:VEVENT
END:VCALENDAR