BEGIN:VCALENDAR
VERSION:2.0
PRODID:-//wp-events-plugin.com//7.2.3.1//EN
TZID:Europe/Berlin
X-WR-TIMEZONE:Europe/Berlin
BEGIN:VEVENT
UID:70@business4school.de
DTSTART:20240219T174500Z
DTEND:20240610T200000Z
DTSTAMP:20240312T123256Z
URL:https://www.business4school.de/veranstaltungen/wirtschaft-global-2024-
 hannover/
SUMMARY:Wirtschaft Global | Sommersemester 2024 | Hannover
DESCRIPTION:Termine 2024\n1 x monatlich montags\, 18.00 bis 20.00 h\n19. Fe
 b | 11. Mrz | 08. Apr | 29. Apr | 13. Mai | 17. Jun\n\nVeranstalter\nbusin
 ess4school  UG  | in Kooperation mit DIE FAMILIENUNTERNEHMER\,\nder IHK 
 Hannover\, der Leibniz Universität\, der Hochschule Hannover und mit den 
 Hochschulen FHM und FHDW\n\nPartner + Ort\nLeibniz Universität Hannover\n
 Königsworther Platz 1\, 30167 Hannover (Conti Campus)\n\nKontakt\ncollege
 @business4school.de\n\nAnmeldefrist\nBitte melden Sie sich möglichst bis 
 zum 15.02.2024 an.
LOCATION:Leibniz Universität Hannover\, Königsworther Platz 1\, 30167 Han
 nover (Conti Campus)\, Deutschland
GEO:52.3791768;9.723882099999969
X-APPLE-STRUCTURED-LOCATION;VALUE=URI;X-ADDRESS=Königsworther Platz 1\, 30
 167 Hannover (Conti Campus)\, Deutschland;X-APPLE-RADIUS=100;X-TITLE=Leibn
 iz Universität Hannover:geo:52.3791768,9.723882099999969
END:VEVENT
END:VCALENDAR