BEGIN:VCALENDAR
VERSION:2.0
PRODID:-//wp-events-plugin.com//7.2.3.1//EN
TZID:Europe/Berlin
X-WR-TIMEZONE:Europe/Berlin
BEGIN:VEVENT
UID:64@business4school.de
DTSTART:20230925T180000Z
DTEND:20240117T200000Z
DTSTAMP:20240118T133118Z
URL:https://www.business4school.de/veranstaltungen/it-college-wintersemest
 er-2023-2024-hildesheim/
SUMMARY:IT-College |  Wintersemester 2023/2024 | Hildesheim
DESCRIPTION:Termine 2022\n1 x monatlich montags\, 18.00 bis 20.00 h\n25. Se
 p | 10. Okt | 13. Nov | 18. Dez | 15. Jan | 05. Feb\n\nVeranstaltungsprogr
 amm zum Download\n\nVeranstalter\nbusiness4school UG  | mit Co-Veranstalt
 er Förderverein Lions Club Hildesheim-Marienburg und Universität Hildesh
 eim\n\nPartner + Ort\nPräsenzveranstaltung: Universität Hildesheim\, Uni
 versitätsplatz 1\, 31141 Hildesheim\, Hörsaal 4 (Hauptcampus)\n\nKontakt
 \ncollege@business4school.de\n\nZertifikat\nBei regelmäßiger Teilnahme e
 rhalten die Teilnehmer ein Zertifikat.\n\nTeilnehmer + Gebühren\nEmpfohle
 n für JG 10 bis 12\,\ndie Teilnahme ist kostenfrei\n\nAnmeldefrist\nBit
 te melden Sie sich möglichst bis zum 22. September 2023 an.
LOCATION:Universität Hildesheim\, Universitätsplatz 1\, Hildesheim\, Deut
 schland
GEO:52.133425;9.975513
X-APPLE-STRUCTURED-LOCATION;VALUE=URI;X-ADDRESS=Universitätsplatz 1\, Hild
 esheim\, Deutschland;X-APPLE-RADIUS=100;X-TITLE=Universität Hildesheim:ge
 o:52.133425,9.975513
END:VEVENT
END:VCALENDAR