BEGIN:VCALENDAR
VERSION:2.0
PRODID:-//wp-events-plugin.com//7.2.3.1//EN
TZID:Europe/Berlin
X-WR-TIMEZONE:Europe/Berlin
BEGIN:VEVENT
UID:74@business4school.de
DTSTART:20240311T180000Z
DTEND:20240617T200000Z
DTSTAMP:20240312T123608Z
URL:https://www.business4school.de/veranstaltungen/it-college-sommersemest
 er-2024/
SUMMARY:IT-College |  Sommersemester 2024 | Hildesheim
DESCRIPTION:Termine 2024\n1 x monatlich montags\, 18.00 bis 20.00 h\n11. Mr
 z | 22. Apr | 06. Mai | 13. Mai | 10. Jun | 17. Jun\n\nVeranstalter\nbusin
 ess4school UG  | mit Co-Veranstalter Förderverein Lions Club Hildesheim-
 Marienburg und Universität Hildesheim\n\nPartner + Ort\nPräsenzveranstal
 tung: Universität Hildesheim\, Hauptcampus\, Universitätsplatz 1 Seminar
 raum N006 (Hauptcampus)\n\nKontakt\ncollege@business4school.de\n\nZertifik
 at\nBei regelmäßiger Teilnahme erhalten die Teilnehmer ein Zertifikat.\n
 \nTeilnehmer + Gebühren\nEmpfohlen für JG 10 bis 12\,\ndie Teilnahme i
 st kostenfrei
LOCATION:Universität Hildesheim\, Universitätsplatz 1\, Hildesheim\, Deut
 schland
GEO:52.133425;9.975513
X-APPLE-STRUCTURED-LOCATION;VALUE=URI;X-ADDRESS=Universitätsplatz 1\, Hild
 esheim\, Deutschland;X-APPLE-RADIUS=100;X-TITLE=Universität Hildesheim:ge
 o:52.133425,9.975513
END:VEVENT
END:VCALENDAR