BEGIN:VCALENDAR
VERSION:2.0
PRODID:-//wp-events-plugin.com//7.2.3.1//EN
TZID:Europe/Berlin
X-WR-TIMEZONE:Europe/Berlin
BEGIN:VEVENT
UID:69@business4school.de
DTSTART;TZID=Europe/Berlin:20240126T084500
DTEND;TZID=Europe/Berlin:20240126T163000
DTSTAMP:20240122T154039Z
URL:https://www.business4school.de/veranstaltungen/government-game-2024-ha
 nnover/
SUMMARY:Government Game 2024 | Hannover
DESCRIPTION:&nbsp\;\n\nGovernment Game\n26. Januar 2024  |  Tages-Worksho
 p  |  09:00  - 16:00 h  |\n\nHier finden Sie das Programm zum Download
 .\n\nDa der Workshop tagsüber stattfindet\, finden Sie hier einen Antrag 
 auf Unterrichtsbeurlaubung\, den Sie in Ihrer Schule einreichen können.
LOCATION:Enercity AG\, Braunstraße 25\, Hannover\, 30169\, Deutschland
GEO:52.373296;9.72007
X-APPLE-STRUCTURED-LOCATION;VALUE=URI;X-ADDRESS=Braunstraße 25\, Hannover\
 , 30169\, Deutschland;X-APPLE-RADIUS=100;X-TITLE=Enercity AG:geo:52.373296
 ,9.72007
END:VEVENT
BEGIN:VTIMEZONE
TZID:Europe/Berlin
X-LIC-LOCATION:Europe/Berlin
BEGIN:STANDARD
DTSTART:20231029T020000
TZOFFSETFROM:+0200
TZOFFSETTO:+0100
TZNAME:CET
END:STANDARD
END:VTIMEZONE
END:VCALENDAR