BEGIN:VCALENDAR
VERSION:2.0
PRODID:-//wp-events-plugin.com//7.2.3.1//EN
TZID:Europe/Berlin
X-WR-TIMEZONE:Europe/Berlin
BEGIN:VEVENT
UID:68@business4school.de
DTSTART;TZID=Europe/Berlin:20240125T084500
DTEND;TZID=Europe/Berlin:20240125T163000
DTSTAMP:20240111T082144Z
URL:https://www.business4school.de/veranstaltungen/government-game-2024-go
 ettingen/
SUMMARY:Government Game 2024 | Göttingen
DESCRIPTION:&nbsp\;\n\nGovernment Game\n25. Januar 2024  |  Tages-Worksho
 p  |  09:00  - 16:00 h  |\n\nHier finden Sie das Programm zum Download
 .\n\nDa der Workshop tagsüber stattfindet\, finden Sie hier einen Antrag 
 auf Unterrichtsbeurlaubung\, den Sie in Ihrer Schule einreichen können.
LOCATION:Sartorius College\, Otto-Brenner-Straße 20 \, 37079 Göttingen\, 
 Deutschland
GEO:51.552765;9.889705
X-APPLE-STRUCTURED-LOCATION;VALUE=URI;X-ADDRESS=Otto-Brenner-Straße 20 \, 
 37079 Göttingen\, Deutschland;X-APPLE-RADIUS=100;X-TITLE=Sartorius Colleg
 e:geo:51.552765,9.889705
END:VEVENT
BEGIN:VTIMEZONE
TZID:Europe/Berlin
X-LIC-LOCATION:Europe/Berlin
BEGIN:STANDARD
DTSTART:20231029T020000
TZOFFSETFROM:+0200
TZOFFSETTO:+0100
TZNAME:CET
END:STANDARD
END:VTIMEZONE
END:VCALENDAR