BEGIN:VCALENDAR
VERSION:2.0
PRODID:-//wp-events-plugin.com//7.2.3.1//EN
TZID:Europe/Berlin
X-WR-TIMEZONE:Europe/Berlin
BEGIN:VEVENT
UID:75@business4school.de
DTSTART:20260309T170000Z
DTEND:20260601T190000Z
DTSTAMP:20260225T084934Z
URL:https://www.business4school.de/veranstaltungen/darmstadt/
SUMMARY:Wirtschaft Global | Sommersemester 2026 | Darmstadt (Präsenz)
DESCRIPTION:[vc_row][vc_column][vc_column_text margin_bottom="0" css=".vc_c
 ustom_1770624925739{margin-bottom: 0px !important\;}"]Termine\nmontags\, 1
 7.00 bis 19.00 h\n\nVeranstalter\nbusiness4school  UG  | in Kooperation 
 mit DIE FAMILIENUNTERNEHMER\, Lions Club Göttingen\, IHK\, und regionalen
  Wirtschaftsförderorganisationen\n\nPartner + Ort\nHochschule Darmstadt h
 _da\, Schöfferstraße 3\, 64295 Darmstadt\, Gebäude C23\, Raum 03.03 ode
 r online\n\nKontakt\ncollege@business4school.de\n\nAnmeldefrist\nBitte mel
 den Sie sich möglichst bis zum 01.03.2026 an.[/vc_column_text][/vc_column
 ][/vc_row]
LOCATION:Hochschule Darmstadt h_da\, Schöfferstraße 3\, Darmstadt\, 64295
 \, Deutschland
GEO:49.866452;8.638491
X-APPLE-STRUCTURED-LOCATION;VALUE=URI;X-ADDRESS=Schöfferstraße 3\, Darmst
 adt\, 64295\, Deutschland;X-APPLE-RADIUS=100;X-TITLE=Hochschule Darmstadt 
 h_da:geo:49.866452,8.638491
END:VEVENT
END:VCALENDAR